BEGIN:VCALENDAR
VERSION:2.0
PRODID:-//Royal Canadian Legion #223 - Sundre - Alberta - ECPv6.15.20//NONSGML v1.0//EN
CALSCALE:GREGORIAN
METHOD:PUBLISH
X-ORIGINAL-URL:https://rcl223.ca
X-WR-CALDESC:Events for Royal Canadian Legion #223 - Sundre - Alberta
REFRESH-INTERVAL;VALUE=DURATION:PT1H
X-Robots-Tag:noindex
X-PUBLISHED-TTL:PT1H
BEGIN:VTIMEZONE
TZID:America/Edmonton
BEGIN:DAYLIGHT
TZOFFSETFROM:-0700
TZOFFSETTO:-0600
TZNAME:MDT
DTSTART:20250309T090000
END:DAYLIGHT
BEGIN:STANDARD
TZOFFSETFROM:-0600
TZOFFSETTO:-0700
TZNAME:MST
DTSTART:20251102T080000
END:STANDARD
BEGIN:DAYLIGHT
TZOFFSETFROM:-0700
TZOFFSETTO:-0600
TZNAME:MDT
DTSTART:20260308T090000
END:DAYLIGHT
BEGIN:STANDARD
TZOFFSETFROM:-0600
TZOFFSETTO:-0700
TZNAME:MST
DTSTART:20261101T080000
END:STANDARD
BEGIN:DAYLIGHT
TZOFFSETFROM:-0700
TZOFFSETTO:-0600
TZNAME:MDT
DTSTART:20270314T090000
END:DAYLIGHT
BEGIN:STANDARD
TZOFFSETFROM:-0600
TZOFFSETTO:-0700
TZNAME:MST
DTSTART:20271107T080000
END:STANDARD
END:VTIMEZONE
BEGIN:VEVENT
DTSTART;TZID=America/Edmonton:20260227T103000
DTEND;TZID=America/Edmonton:20260227T113000
DTSTAMP:20260423T132930
CREATED:20260216T192959Z
LAST-MODIFIED:20260216T192959Z
UID:915-1772188200-1772191800@rcl223.ca
SUMMARY:Entertainment/Social Committee meeting
DESCRIPTION:
URL:https://rcl223.ca/event/entertainment-social-committee-meeting-2/
LOCATION:Royal Canadian Legion – Sundre #223\, 135 - 6th Street SE\, Sundre\, Alberta\, T0M 1X0\, Canada
END:VEVENT
END:VCALENDAR