BEGIN:VCALENDAR
VERSION:2.0
PRODID:-//Royal Canadian Legion #223 - Sundre - Alberta - ECPv6.15.20//NONSGML v1.0//EN
CALSCALE:GREGORIAN
METHOD:PUBLISH
X-WR-CALNAME:Royal Canadian Legion #223 - Sundre - Alberta
X-ORIGINAL-URL:https://rcl223.ca
X-WR-CALDESC:Events for Royal Canadian Legion #223 - Sundre - Alberta
REFRESH-INTERVAL;VALUE=DURATION:PT1H
X-Robots-Tag:noindex
X-PUBLISHED-TTL:PT1H
BEGIN:VTIMEZONE
TZID:America/Edmonton
BEGIN:DAYLIGHT
TZOFFSETFROM:-0700
TZOFFSETTO:-0600
TZNAME:MDT
DTSTART:20250309T090000
END:DAYLIGHT
BEGIN:STANDARD
TZOFFSETFROM:-0600
TZOFFSETTO:-0700
TZNAME:MST
DTSTART:20251102T080000
END:STANDARD
BEGIN:DAYLIGHT
TZOFFSETFROM:-0700
TZOFFSETTO:-0600
TZNAME:MDT
DTSTART:20260308T090000
END:DAYLIGHT
BEGIN:STANDARD
TZOFFSETFROM:-0600
TZOFFSETTO:-0700
TZNAME:MST
DTSTART:20261101T080000
END:STANDARD
BEGIN:DAYLIGHT
TZOFFSETFROM:-0700
TZOFFSETTO:-0600
TZNAME:MDT
DTSTART:20270314T090000
END:DAYLIGHT
BEGIN:STANDARD
TZOFFSETFROM:-0600
TZOFFSETTO:-0700
TZNAME:MST
DTSTART:20271107T080000
END:STANDARD
END:VTIMEZONE
BEGIN:VEVENT
DTSTART;TZID=America/Edmonton:20260330T103000
DTEND;TZID=America/Edmonton:20260330T120000
DTSTAMP:20260423T152109
CREATED:20260222T222404Z
LAST-MODIFIED:20260222T222717Z
UID:929-1774866600-1774872000@rcl223.ca
SUMMARY:Executive Meeting
DESCRIPTION:
URL:https://rcl223.ca/event/executive-meeting/
LOCATION:Royal Canadian Legion – Sundre #223\, 135 - 6th Street SE\, Sundre\, Alberta\, T0M 1X0\, Canada
END:VEVENT
BEGIN:VEVENT
DTSTART;TZID=America/Edmonton:20260326T100000
DTEND;TZID=America/Edmonton:20260326T160000
DTSTAMP:20260423T152109
CREATED:20260228T165946Z
LAST-MODIFIED:20260228T165946Z
UID:1025-1774519200-1774540800@rcl223.ca
SUMMARY:Kitchen Clean #3
DESCRIPTION:Empty and clean main Pantry. Check expiratory dates of all.
URL:https://rcl223.ca/event/kitchen-clean-3/
END:VEVENT
BEGIN:VEVENT
DTSTART;TZID=America/Edmonton:20260324T093000
DTEND;TZID=America/Edmonton:20260324T150000
DTSTAMP:20260423T152109
CREATED:20260222T222147Z
LAST-MODIFIED:20260222T225226Z
UID:925-1774344600-1774364400@rcl223.ca
SUMMARY:Nimble Fingers
DESCRIPTION:
URL:https://rcl223.ca/event/nimble-fingers-44/
LOCATION:Royal Canadian Legion – Sundre #223\, 135 - 6th Street SE\, Sundre\, Alberta\, T0M 1X0\, Canada
END:VEVENT
BEGIN:VEVENT
DTSTART;TZID=America/Edmonton:20260319T180000
DTEND;TZID=America/Edmonton:20260319T210000
DTSTAMP:20260423T152109
CREATED:20260311T212251Z
LAST-MODIFIED:20260311T212645Z
UID:1039-1773943200-1773954000@rcl223.ca
SUMMARY:Veterans’ Appreciation Night
DESCRIPTION:All legion and non-legion veteran members welcome.
URL:https://rcl223.ca/event/veterans-appreciation-night-2/
LOCATION:Royal Canadian Legion – Sundre #223\, 135 - 6th Street SE\, Sundre\, Alberta\, T0M 1X0\, Canada
END:VEVENT
BEGIN:VEVENT
DTSTART;TZID=America/Edmonton:20260319T100000
DTEND;TZID=America/Edmonton:20260319T160000
DTSTAMP:20260423T152109
CREATED:20260228T165837Z
LAST-MODIFIED:20260228T165837Z
UID:1022-1773914400-1773936000@rcl223.ca
SUMMARY:Kitchen Clean #2
DESCRIPTION:Empty and clean all cupboards. Complete inventory. Numerous kitchen volunteers requested
URL:https://rcl223.ca/event/kitchen-clean-2/
END:VEVENT
BEGIN:VEVENT
DTSTART;TZID=America/Edmonton:20260318T160000
DTEND;TZID=America/Edmonton:20260318T210000
DTSTAMP:20260423T152109
CREATED:20260313T193858Z
LAST-MODIFIED:20260313T193858Z
UID:1047-1773849600-1773867600@rcl223.ca
SUMMARY:Private Event
DESCRIPTION:Concert
URL:https://rcl223.ca/event/private-event-7/
END:VEVENT
BEGIN:VEVENT
DTSTART;TZID=America/Edmonton:20260318T100000
DTEND;TZID=America/Edmonton:20260318T140000
DTSTAMP:20260423T152109
CREATED:20260228T170312Z
LAST-MODIFIED:20260228T170312Z
UID:1027-1773828000-1773842400@rcl223.ca
SUMMARY:Cooking for Kindness
DESCRIPTION:
URL:https://rcl223.ca/event/cooking-for-kindness-5/
END:VEVENT
BEGIN:VEVENT
DTSTART;TZID=America/Edmonton:20260317T093000
DTEND;TZID=America/Edmonton:20260317T150000
DTSTAMP:20260423T152109
CREATED:20260222T222116Z
LAST-MODIFIED:20260222T225157Z
UID:923-1773739800-1773759600@rcl223.ca
SUMMARY:Nimble Fingers
DESCRIPTION:
URL:https://rcl223.ca/event/nimble-fingers-43/
LOCATION:Royal Canadian Legion – Sundre #223\, 135 - 6th Street SE\, Sundre\, Alberta\, T0M 1X0\, Canada
END:VEVENT
BEGIN:VEVENT
DTSTART;TZID=America/Edmonton:20260315T130000
DTEND;TZID=America/Edmonton:20260315T150000
DTSTAMP:20260423T152109
CREATED:20260222T231328Z
LAST-MODIFIED:20260222T231328Z
UID:1008-1773579600-1773586800@rcl223.ca
SUMMARY:Cribbage Sundays
DESCRIPTION:
URL:https://rcl223.ca/event/cribbage-sundays-2/
LOCATION:Royal Canadian Legion – Sundre #223\, 135 - 6th Street SE\, Sundre\, Alberta\, T0M 1X0\, Canada
END:VEVENT
BEGIN:VEVENT
DTSTART;TZID=America/Edmonton:20260313T103000
DTEND;TZID=America/Edmonton:20260313T140000
DTSTAMP:20260423T152109
CREATED:20260313T194611Z
LAST-MODIFIED:20260313T194611Z
UID:1051-1773397800-1773410400@rcl223.ca
SUMMARY:Cooking Up Connections
DESCRIPTION:GNP-Renate
URL:https://rcl223.ca/event/cooking-up-connections-3/
END:VEVENT
BEGIN:VEVENT
DTSTART;TZID=America/Edmonton:20260312T100000
DTEND;TZID=America/Edmonton:20260312T140000
DTSTAMP:20260423T152109
CREATED:20260228T165647Z
LAST-MODIFIED:20260228T165647Z
UID:1020-1773309600-1773324000@rcl223.ca
SUMMARY:Kitchen Clean #1
DESCRIPTION:Move out appliances and clean. 2 strong men requested
URL:https://rcl223.ca/event/kitchen-clean-1/
END:VEVENT
BEGIN:VEVENT
DTSTART;TZID=America/Edmonton:20260310T093000
DTEND;TZID=America/Edmonton:20260310T150000
DTSTAMP:20260423T152109
CREATED:20260222T222040Z
LAST-MODIFIED:20260222T222040Z
UID:921-1773135000-1773154800@rcl223.ca
SUMMARY:Nimble Fingers
DESCRIPTION:
URL:https://rcl223.ca/event/nimble-fingers-42/
LOCATION:Royal Canadian Legion – Sundre #223\, 135 - 6th Street SE\, Sundre\, Alberta\, T0M 1X0\, Canada
END:VEVENT
BEGIN:VEVENT
DTSTART;TZID=America/Edmonton:20260306T103000
DTEND;TZID=America/Edmonton:20260306T233000
DTSTAMP:20260423T152109
CREATED:20260228T165419Z
LAST-MODIFIED:20260228T165436Z
UID:1018-1772793000-1772839800@rcl223.ca
SUMMARY:Entertainment Committee
DESCRIPTION:
URL:https://rcl223.ca/event/entertainment-committee/
END:VEVENT
BEGIN:VEVENT
DTSTART;TZID=America/Edmonton:20260303T093000
DTEND;TZID=America/Edmonton:20260303T150000
DTSTAMP:20260423T152109
CREATED:20260222T221926Z
LAST-MODIFIED:20260222T221926Z
UID:919-1772530200-1772550000@rcl223.ca
SUMMARY:Nimble Fingers
DESCRIPTION:
URL:https://rcl223.ca/event/nimble-fingers-41/
LOCATION:Royal Canadian Legion – Sundre #223\, 135 - 6th Street SE\, Sundre\, Alberta\, T0M 1X0\, Canada
END:VEVENT
BEGIN:VEVENT
DTSTART;TZID=America/Edmonton:20260302T190000
DTEND;TZID=America/Edmonton:20260302T210000
DTSTAMP:20260423T152109
CREATED:20260222T230752Z
LAST-MODIFIED:20260222T230752Z
UID:1004-1772478000-1772485200@rcl223.ca
SUMMARY:General Meeting
DESCRIPTION:
URL:https://rcl223.ca/event/general-meeting-14/
LOCATION:Royal Canadian Legion – Sundre #223\, 135 - 6th Street SE\, Sundre\, Alberta\, T0M 1X0\, Canada
END:VEVENT
BEGIN:VEVENT
DTSTART;TZID=America/Edmonton:20260301T130000
DTEND;TZID=America/Edmonton:20260301T153000
DTSTAMP:20260423T152109
CREATED:20260222T231252Z
LAST-MODIFIED:20260222T231252Z
UID:1006-1772370000-1772379000@rcl223.ca
SUMMARY:Cribbage Sundays
DESCRIPTION:
URL:https://rcl223.ca/event/cribbage-sundays/
LOCATION:Royal Canadian Legion – Sundre #223\, 135 - 6th Street SE\, Sundre\, Alberta\, T0M 1X0\, Canada
END:VEVENT
BEGIN:VEVENT
DTSTART;TZID=America/Edmonton:20260227T103000
DTEND;TZID=America/Edmonton:20260227T113000
DTSTAMP:20260423T152109
CREATED:20260216T192959Z
LAST-MODIFIED:20260216T192959Z
UID:915-1772188200-1772191800@rcl223.ca
SUMMARY:Entertainment/Social Committee meeting
DESCRIPTION:
URL:https://rcl223.ca/event/entertainment-social-committee-meeting-2/
LOCATION:Royal Canadian Legion – Sundre #223\, 135 - 6th Street SE\, Sundre\, Alberta\, T0M 1X0\, Canada
END:VEVENT
BEGIN:VEVENT
DTSTART;TZID=America/Edmonton:20260224T093000
DTEND;TZID=America/Edmonton:20260224T150000
DTSTAMP:20260423T152109
CREATED:20251231T201450Z
LAST-MODIFIED:20251231T201450Z
UID:856-1771925400-1771945200@rcl223.ca
SUMMARY:Nimble Fingers
DESCRIPTION:
URL:https://rcl223.ca/event/nimble-fingers-40/
END:VEVENT
BEGIN:VEVENT
DTSTART;TZID=America/Edmonton:20260223T103000
DTEND;TZID=America/Edmonton:20260223T120000
DTSTAMP:20260423T152109
CREATED:20251231T201647Z
LAST-MODIFIED:20251231T201647Z
UID:862-1771842600-1771848000@rcl223.ca
SUMMARY:Legion Executive Meeting
DESCRIPTION:
URL:https://rcl223.ca/event/legion-executive-meeting-3/
END:VEVENT
BEGIN:VEVENT
DTSTART;TZID=America/Edmonton:20260219T180000
DTEND;TZID=America/Edmonton:20260219T210000
DTSTAMP:20260423T152109
CREATED:20251231T201602Z
LAST-MODIFIED:20251231T201602Z
UID:860-1771524000-1771534800@rcl223.ca
SUMMARY:Veterans Night
DESCRIPTION:
URL:https://rcl223.ca/event/veterans-night-6/
END:VEVENT
BEGIN:VEVENT
DTSTART;TZID=America/Edmonton:20260218T100000
DTEND;TZID=America/Edmonton:20260218T140000
DTSTAMP:20260423T152109
CREATED:20251231T201524Z
LAST-MODIFIED:20251231T201524Z
UID:858-1771408800-1771423200@rcl223.ca
SUMMARY:Cooking for Kindness
DESCRIPTION:
URL:https://rcl223.ca/event/cooking-for-kindness-4/
END:VEVENT
BEGIN:VEVENT
DTSTART;TZID=America/Edmonton:20260217T093000
DTEND;TZID=America/Edmonton:20260217T150000
DTSTAMP:20260423T152109
CREATED:20251231T201416Z
LAST-MODIFIED:20251231T201416Z
UID:854-1771320600-1771340400@rcl223.ca
SUMMARY:Nimble Fingers
DESCRIPTION:
URL:https://rcl223.ca/event/nimble-fingers-39/
END:VEVENT
BEGIN:VEVENT
DTSTART;TZID=America/Edmonton:20260211T183000
DTEND;TZID=America/Edmonton:20260211T210000
DTSTAMP:20260423T152109
CREATED:20260113T214744Z
LAST-MODIFIED:20260113T214744Z
UID:887-1770834600-1770843600@rcl223.ca
SUMMARY:Paint Night
DESCRIPTION:
URL:https://rcl223.ca/event/paint-night/
LOCATION:Royal Canadian Legion – Sundre #223\, 135 - 6th Street SE\, Sundre\, Alberta\, T0M 1X0\, Canada
END:VEVENT
BEGIN:VEVENT
DTSTART;TZID=America/Edmonton:20260210T093000
DTEND;TZID=America/Edmonton:20260210T150000
DTSTAMP:20260423T152109
CREATED:20251231T201348Z
LAST-MODIFIED:20251231T201348Z
UID:852-1770715800-1770735600@rcl223.ca
SUMMARY:Nimble Fingers
DESCRIPTION:
URL:https://rcl223.ca/event/nimble-fingers-38/
END:VEVENT
BEGIN:VEVENT
DTSTART;TZID=America/Edmonton:20260207T190000
DTEND;TZID=America/Edmonton:20260208T003000
DTSTAMP:20260423T152109
CREATED:20260119T170909Z
LAST-MODIFIED:20260126T225802Z
UID:898-1770490800-1770510600@rcl223.ca
SUMMARY:Beat the Winter Blues Dance - CANCELLED
DESCRIPTION:THIS EVENT HAS BEEN CANCELLED
URL:https://rcl223.ca/event/beat-the-winter-blues-dance/
LOCATION:Royal Canadian Legion – Sundre #223\, 135 - 6th Street SE\, Sundre\, Alberta\, T0M 1X0\, Canada
END:VEVENT
BEGIN:VEVENT
DTSTART;TZID=America/Edmonton:20260204T170000
DTEND;TZID=America/Edmonton:20260204T210000
DTSTAMP:20260423T152109
CREATED:20260101T155014Z
LAST-MODIFIED:20260101T155014Z
UID:867-1770224400-1770238800@rcl223.ca
SUMMARY:Private Event
DESCRIPTION:Bow BioRegion Regeneration Meeting
URL:https://rcl223.ca/event/private-event-4/
END:VEVENT
BEGIN:VEVENT
DTSTART;TZID=America/Edmonton:20260203T093000
DTEND;TZID=America/Edmonton:20260203T150000
DTSTAMP:20260423T152109
CREATED:20251231T201233Z
LAST-MODIFIED:20251231T201233Z
UID:848-1770111000-1770130800@rcl223.ca
SUMMARY:Nimble Fingers
DESCRIPTION:
URL:https://rcl223.ca/event/nimble-fingers-37/
END:VEVENT
BEGIN:VEVENT
DTSTART;TZID=America/Edmonton:20260202T190000
DTEND;TZID=America/Edmonton:20260202T210000
DTSTAMP:20260423T152109
CREATED:20251231T201205Z
LAST-MODIFIED:20251231T201205Z
UID:846-1770058800-1770066000@rcl223.ca
SUMMARY:Legion General Meeting
DESCRIPTION:
URL:https://rcl223.ca/event/legion-general-meeting-4/
END:VEVENT
BEGIN:VEVENT
DTSTART;VALUE=DATE:20260131
DTEND;VALUE=DATE:20260201
DTSTAMP:20260423T152109
CREATED:20250415T175445Z
LAST-MODIFIED:20250415T175445Z
UID:467-1769817600-1769903999@rcl223.ca
SUMMARY:Legion Senior Pairs Crib Tournament
DESCRIPTION:
URL:https://rcl223.ca/event/legion-senior-pairs-crib-tournament/
END:VEVENT
BEGIN:VEVENT
DTSTART;TZID=America/Edmonton:20260127T093000
DTEND;TZID=America/Edmonton:20260127T150000
DTSTAMP:20260423T152109
CREATED:20251231T201059Z
LAST-MODIFIED:20260119T170204Z
UID:844-1769506200-1769526000@rcl223.ca
SUMMARY:Nimble Fingers
DESCRIPTION:
URL:https://rcl223.ca/event/nimble-fingers-36/
END:VEVENT
END:VCALENDAR