BEGIN:VCALENDAR
VERSION:2.0
PRODID:-//Royal Canadian Legion #223 - Sundre - Alberta - ECPv6.15.20//NONSGML v1.0//EN
CALSCALE:GREGORIAN
METHOD:PUBLISH
X-WR-CALNAME:Royal Canadian Legion #223 - Sundre - Alberta
X-ORIGINAL-URL:https://rcl223.ca
X-WR-CALDESC:Events for Royal Canadian Legion #223 - Sundre - Alberta
REFRESH-INTERVAL;VALUE=DURATION:PT1H
X-Robots-Tag:noindex
X-PUBLISHED-TTL:PT1H
BEGIN:VTIMEZONE
TZID:America/Edmonton
BEGIN:DAYLIGHT
TZOFFSETFROM:-0700
TZOFFSETTO:-0600
TZNAME:MDT
DTSTART:20250309T090000
END:DAYLIGHT
BEGIN:STANDARD
TZOFFSETFROM:-0600
TZOFFSETTO:-0700
TZNAME:MST
DTSTART:20251102T080000
END:STANDARD
BEGIN:DAYLIGHT
TZOFFSETFROM:-0700
TZOFFSETTO:-0600
TZNAME:MDT
DTSTART:20260308T090000
END:DAYLIGHT
BEGIN:STANDARD
TZOFFSETFROM:-0600
TZOFFSETTO:-0700
TZNAME:MST
DTSTART:20261101T080000
END:STANDARD
BEGIN:DAYLIGHT
TZOFFSETFROM:-0700
TZOFFSETTO:-0600
TZNAME:MDT
DTSTART:20270314T090000
END:DAYLIGHT
BEGIN:STANDARD
TZOFFSETFROM:-0600
TZOFFSETTO:-0700
TZNAME:MST
DTSTART:20271107T080000
END:STANDARD
END:VTIMEZONE
BEGIN:VEVENT
DTSTART;TZID=America/Edmonton:20260409T180000
DTEND;TZID=America/Edmonton:20260409T220000
DTSTAMP:20260423T145444
CREATED:20260313T194428Z
LAST-MODIFIED:20260313T194428Z
UID:1049-1775757600-1775772000@rcl223.ca
SUMMARY:Private Event
DESCRIPTION:Jamie M
URL:https://rcl223.ca/event/private-event-8/
END:VEVENT
BEGIN:VEVENT
DTSTART;TZID=America/Edmonton:20260413T190000
DTEND;TZID=America/Edmonton:20260413T210000
DTSTAMP:20260423T145444
CREATED:20260222T222618Z
LAST-MODIFIED:20260222T222618Z
UID:931-1776106800-1776114000@rcl223.ca
SUMMARY:General Meeting
DESCRIPTION:
URL:https://rcl223.ca/event/general-meeting-7/
LOCATION:Royal Canadian Legion – Sundre #223\, 135 - 6th Street SE\, Sundre\, Alberta\, T0M 1X0\, Canada
END:VEVENT
BEGIN:VEVENT
DTSTART;TZID=America/Edmonton:20260414T093000
DTEND;TZID=America/Edmonton:20260414T150000
DTSTAMP:20260423T145444
CREATED:20260222T225712Z
LAST-MODIFIED:20260222T225712Z
UID:988-1776159000-1776178800@rcl223.ca
SUMMARY:Nimble Fingers
DESCRIPTION:
URL:https://rcl223.ca/event/nimble-fingers-51/
LOCATION:Royal Canadian Legion – Sundre #223\, 135 - 6th Street SE\, Sundre\, Alberta\, T0M 1X0\, Canada
END:VEVENT
BEGIN:VEVENT
DTSTART;TZID=America/Edmonton:20260415T100000
DTEND;TZID=America/Edmonton:20260415T140000
DTSTAMP:20260423T145444
CREATED:20260228T170754Z
LAST-MODIFIED:20260228T170754Z
UID:1033-1776247200-1776261600@rcl223.ca
SUMMARY:Cooking for Kindness
DESCRIPTION:
URL:https://rcl223.ca/event/cooking-for-kindness-6/
END:VEVENT
BEGIN:VEVENT
DTSTART;TZID=America/Edmonton:20260416T180000
DTEND;TZID=America/Edmonton:20260416T210000
DTSTAMP:20260423T145444
CREATED:20260228T170720Z
LAST-MODIFIED:20260228T170720Z
UID:1031-1776362400-1776373200@rcl223.ca
SUMMARY:Veterans Night
DESCRIPTION:All Veterans invited. Legion or non Legion members welcome
URL:https://rcl223.ca/event/veterans-night-7/
END:VEVENT
BEGIN:VEVENT
DTSTART;TZID=America/Edmonton:20260419T130000
DTEND;TZID=America/Edmonton:20260419T150000
DTSTAMP:20260423T145444
CREATED:20260222T231450Z
LAST-MODIFIED:20260222T231450Z
UID:1012-1776603600-1776610800@rcl223.ca
SUMMARY:Cribbage Sundays
DESCRIPTION:
URL:https://rcl223.ca/event/cribbage-sundays-4/
LOCATION:Royal Canadian Legion – Sundre #223\, 135 - 6th Street SE\, Sundre\, Alberta\, T0M 1X0\, Canada
END:VEVENT
BEGIN:VEVENT
DTSTART;TZID=America/Edmonton:20260421T093000
DTEND;TZID=America/Edmonton:20260421T150000
DTSTAMP:20260423T145444
CREATED:20260222T225738Z
LAST-MODIFIED:20260222T225738Z
UID:990-1776763800-1776783600@rcl223.ca
SUMMARY:Nimble Fingers
DESCRIPTION:
URL:https://rcl223.ca/event/nimble-fingers-52/
LOCATION:Royal Canadian Legion – Sundre #223\, 135 - 6th Street SE\, Sundre\, Alberta\, T0M 1X0\, Canada
END:VEVENT
BEGIN:VEVENT
DTSTART;TZID=America/Edmonton:20260421T180000
DTEND;TZID=America/Edmonton:20260421T210000
DTSTAMP:20260423T145444
CREATED:20260228T170409Z
LAST-MODIFIED:20260313T194142Z
UID:1029-1776794400-1776805200@rcl223.ca
SUMMARY:RCMP Public Info Session
DESCRIPTION:
URL:https://rcl223.ca/event/rcmp-public-info-session/
END:VEVENT
BEGIN:VEVENT
DTSTART;TZID=America/Edmonton:20260422T103000
DTEND;TZID=America/Edmonton:20260422T140000
DTSTAMP:20260423T145444
CREATED:20260313T194830Z
LAST-MODIFIED:20260313T194830Z
UID:1055-1776853800-1776866400@rcl223.ca
SUMMARY:Cooking Up Connections
DESCRIPTION:GNP- Renate
URL:https://rcl223.ca/event/cooking-up-connections-5/
END:VEVENT
BEGIN:VEVENT
DTSTART;TZID=America/Edmonton:20260427T103000
DTEND;TZID=America/Edmonton:20260427T120000
DTSTAMP:20260423T145444
CREATED:20260222T223156Z
LAST-MODIFIED:20260222T223156Z
UID:938-1777285800-1777291200@rcl223.ca
SUMMARY:Executive Meeting
DESCRIPTION:
URL:https://rcl223.ca/event/executive-meeting-2/
LOCATION:Royal Canadian Legion – Sundre #223\, 135 - 6th Street SE\, Sundre\, Alberta\, T0M 1X0\, Canada
END:VEVENT
BEGIN:VEVENT
DTSTART;TZID=America/Edmonton:20260428T093000
DTEND;TZID=America/Edmonton:20260428T150000
DTSTAMP:20260423T145444
CREATED:20260222T225804Z
LAST-MODIFIED:20260222T225804Z
UID:992-1777368600-1777388400@rcl223.ca
SUMMARY:Nimble Fingers
DESCRIPTION:
URL:https://rcl223.ca/event/nimble-fingers-53/
LOCATION:Royal Canadian Legion – Sundre #223\, 135 - 6th Street SE\, Sundre\, Alberta\, T0M 1X0\, Canada
END:VEVENT
BEGIN:VEVENT
DTSTART;VALUE=DATE:20260502
DTEND;VALUE=DATE:20260503
DTSTAMP:20260423T145444
CREATED:20260313T195023Z
LAST-MODIFIED:20260325T161210Z
UID:1057-1777680000-1777766399@rcl223.ca
SUMMARY:Legion  Cod Fry
DESCRIPTION:KISS THE COD & GET SCREECHED IN! Think you have what it takes to be an honorary Newfoundlander? Join us for the ultimate East Coast tradition at the Sundre Branch 223 Legion. Enjoy a delicious fresh-fried cod & chips dinner\, then take the plunge—kiss the cod\, take a shot of Screech\, and earn your certificate! When: May 2\, 2026 Doors open 5:00 pmWhere: 135-6 Street SE\, Sundre\, AlbertaTickets: $50.00Live Music: Atlantic StormCash Bar\, 50/50 ticketsFun\, local\, and unforgettable!
URL:https://rcl223.ca/event/legion-cod-fry/
LOCATION:Royal Canadian Legion – Sundre #223\, 135 - 6th Street SE\, Sundre\, Alberta\, T0M 1X0\, Canada
END:VEVENT
BEGIN:VEVENT
DTSTART;TZID=America/Edmonton:20260504T190000
DTEND;TZID=America/Edmonton:20260504T210000
DTSTAMP:20260423T145444
CREATED:20260222T223240Z
LAST-MODIFIED:20260222T223240Z
UID:940-1777921200-1777928400@rcl223.ca
SUMMARY:General Meeting
DESCRIPTION:
URL:https://rcl223.ca/event/general-meeting-8/
LOCATION:Royal Canadian Legion – Sundre #223\, 135 - 6th Street SE\, Sundre\, Alberta\, T0M 1X0\, Canada
END:VEVENT
BEGIN:VEVENT
DTSTART;TZID=America/Edmonton:20260505T093000
DTEND;TZID=America/Edmonton:20260505T150000
DTSTAMP:20260423T145444
CREATED:20260222T225357Z
LAST-MODIFIED:20260222T225357Z
UID:978-1777973400-1777993200@rcl223.ca
SUMMARY:Nimble Fingers
DESCRIPTION:
URL:https://rcl223.ca/event/nimble-fingers-46/
LOCATION:Royal Canadian Legion – Sundre #223\, 135 - 6th Street SE\, Sundre\, Alberta\, T0M 1X0\, Canada
END:VEVENT
BEGIN:VEVENT
DTSTART;TZID=America/Edmonton:20260512T093000
DTEND;TZID=America/Edmonton:20260512T150000
DTSTAMP:20260423T145444
CREATED:20260222T225431Z
LAST-MODIFIED:20260222T225431Z
UID:980-1778578200-1778598000@rcl223.ca
SUMMARY:Nimble Fingers
DESCRIPTION:
URL:https://rcl223.ca/event/nimble-fingers-47/
LOCATION:Royal Canadian Legion – Sundre #223\, 135 - 6th Street SE\, Sundre\, Alberta\, T0M 1X0\, Canada
END:VEVENT
BEGIN:VEVENT
DTSTART;TZID=America/Edmonton:20260519T093000
DTEND;TZID=America/Edmonton:20260519T150000
DTSTAMP:20260423T145444
CREATED:20260222T225502Z
LAST-MODIFIED:20260222T225502Z
UID:982-1779183000-1779202800@rcl223.ca
SUMMARY:Nimble Fingers
DESCRIPTION:
URL:https://rcl223.ca/event/nimble-fingers-48/
LOCATION:Royal Canadian Legion – Sundre #223\, 135 - 6th Street SE\, Sundre\, Alberta\, T0M 1X0\, Canada
END:VEVENT
BEGIN:VEVENT
DTSTART;TZID=America/Edmonton:20260520T103000
DTEND;TZID=America/Edmonton:20260520T140000
DTSTAMP:20260423T145444
CREATED:20260313T195309Z
LAST-MODIFIED:20260313T195309Z
UID:1059-1779273000-1779285600@rcl223.ca
SUMMARY:Cooking For Kindness
DESCRIPTION:
URL:https://rcl223.ca/event/cooking-for-kindness-7/
END:VEVENT
BEGIN:VEVENT
DTSTART;TZID=America/Edmonton:20260521T170000
DTEND;TZID=America/Edmonton:20260521T210000
DTSTAMP:20260423T145444
CREATED:20260222T223432Z
LAST-MODIFIED:20260222T223711Z
UID:944-1779382800-1779397200@rcl223.ca
SUMMARY:Legion BBQ
DESCRIPTION:Come out and support your legion. Grill your chicken or steak to perfection. Includes potatoes\, salads\, buns\, pickles\, dessert. Cash bar and Meat draws. \n\n$25.00
URL:https://rcl223.ca/event/legion-bbq-steak-fry/
LOCATION:Royal Canadian Legion – Sundre #223\, 135 - 6th Street SE\, Sundre\, Alberta\, T0M 1X0\, Canada
END:VEVENT
BEGIN:VEVENT
DTSTART;VALUE=DATE:20260523
DTEND;VALUE=DATE:20260524
DTSTAMP:20260423T145444
CREATED:20260313T195420Z
LAST-MODIFIED:20260313T195420Z
UID:1061-1779494400-1779580799@rcl223.ca
SUMMARY:Private Function
DESCRIPTION:Yvonne Hopkins Birthday
URL:https://rcl223.ca/event/private-function-26/
END:VEVENT
BEGIN:VEVENT
DTSTART;TZID=America/Edmonton:20260525T103000
DTEND;TZID=America/Edmonton:20260525T120000
DTSTAMP:20260423T145444
CREATED:20260222T223323Z
LAST-MODIFIED:20260222T223323Z
UID:942-1779705000-1779710400@rcl223.ca
SUMMARY:Executive Meeting
DESCRIPTION:
URL:https://rcl223.ca/event/executive-meeting-3/
LOCATION:Royal Canadian Legion – Sundre #223\, 135 - 6th Street SE\, Sundre\, Alberta\, T0M 1X0\, Canada
END:VEVENT
BEGIN:VEVENT
DTSTART;TZID=America/Edmonton:20260526T093000
DTEND;TZID=America/Edmonton:20260526T150000
DTSTAMP:20260423T145444
CREATED:20260222T225534Z
LAST-MODIFIED:20260222T225534Z
UID:984-1779787800-1779807600@rcl223.ca
SUMMARY:Nimble Fingers
DESCRIPTION:
URL:https://rcl223.ca/event/nimble-fingers-49/
LOCATION:Royal Canadian Legion – Sundre #223\, 135 - 6th Street SE\, Sundre\, Alberta\, T0M 1X0\, Canada
END:VEVENT
BEGIN:VEVENT
DTSTART;TZID=America/Edmonton:20260530T120000
DTEND;TZID=America/Edmonton:20260530T210000
DTSTAMP:20260423T145444
CREATED:20260313T195610Z
LAST-MODIFIED:20260313T195610Z
UID:1064-1780142400-1780174800@rcl223.ca
SUMMARY:Private Event
DESCRIPTION:GNP-Auction 7-9pm
URL:https://rcl223.ca/event/private-event-9/
END:VEVENT
BEGIN:VEVENT
DTSTART;TZID=America/Edmonton:20260601T190000
DTEND;TZID=America/Edmonton:20260601T210000
DTSTAMP:20260423T145444
CREATED:20260222T224206Z
LAST-MODIFIED:20260222T224206Z
UID:957-1780340400-1780347600@rcl223.ca
SUMMARY:General Meeting
DESCRIPTION:
URL:https://rcl223.ca/event/general-meeting-9/
LOCATION:Royal Canadian Legion – Sundre #223\, 135 - 6th Street SE\, Sundre\, Alberta\, T0M 1X0\, Canada
END:VEVENT
BEGIN:VEVENT
DTSTART;TZID=America/Edmonton:20260602T093000
DTEND;TZID=America/Edmonton:20260602T150000
DTSTAMP:20260423T145444
CREATED:20260222T225936Z
LAST-MODIFIED:20260222T225936Z
UID:994-1780392600-1780412400@rcl223.ca
SUMMARY:Nimble Fingers
DESCRIPTION:
URL:https://rcl223.ca/event/nimble-fingers-54/
LOCATION:Royal Canadian Legion – Sundre #223\, 135 - 6th Street SE\, Sundre\, Alberta\, T0M 1X0\, Canada
END:VEVENT
BEGIN:VEVENT
DTSTART;VALUE=DATE:20260604
DTEND;VALUE=DATE:20260605
DTSTAMP:20260423T145444
CREATED:20260115T011118Z
LAST-MODIFIED:20260115T011118Z
UID:894-1780531200-1780617599@rcl223.ca
SUMMARY:Private Event
DESCRIPTION:GNP- Elvis show (tentative)
URL:https://rcl223.ca/event/private-event-5/
END:VEVENT
BEGIN:VEVENT
DTSTART;TZID=America/Edmonton:20260609T093000
DTEND;TZID=America/Edmonton:20260609T150000
DTSTAMP:20260423T145444
CREATED:20260222T230003Z
LAST-MODIFIED:20260222T230003Z
UID:996-1780997400-1781017200@rcl223.ca
SUMMARY:Nimble Fingers
DESCRIPTION:
URL:https://rcl223.ca/event/nimble-fingers-55/
LOCATION:Royal Canadian Legion – Sundre #223\, 135 - 6th Street SE\, Sundre\, Alberta\, T0M 1X0\, Canada
END:VEVENT
BEGIN:VEVENT
DTSTART;TZID=America/Edmonton:20260616T093000
DTEND;TZID=America/Edmonton:20260616T150000
DTSTAMP:20260423T145444
CREATED:20260222T230029Z
LAST-MODIFIED:20260222T230029Z
UID:998-1781602200-1781622000@rcl223.ca
SUMMARY:Nimble Fingers
DESCRIPTION:
URL:https://rcl223.ca/event/nimble-fingers-56/
LOCATION:Royal Canadian Legion – Sundre #223\, 135 - 6th Street SE\, Sundre\, Alberta\, T0M 1X0\, Canada
END:VEVENT
BEGIN:VEVENT
DTSTART;TZID=America/Edmonton:20260618T170000
DTEND;TZID=America/Edmonton:20260618T210000
DTSTAMP:20260423T145444
CREATED:20260222T223808Z
LAST-MODIFIED:20260222T223808Z
UID:949-1781802000-1781816400@rcl223.ca
SUMMARY:Legion BBQ
DESCRIPTION:Come out and support your legion. Grill your chicken or steak to perfection. Includes potatoes\, salads\, buns\, pickles\, dessert. Cash bar\, Meat draws\, Nevada tickets \n\n$25.00
URL:https://rcl223.ca/event/legion-bbq-6/
LOCATION:Royal Canadian Legion – Sundre #223\, 135 - 6th Street SE\, Sundre\, Alberta\, T0M 1X0\, Canada
END:VEVENT
BEGIN:VEVENT
DTSTART;TZID=America/Edmonton:20260623T093000
DTEND;TZID=America/Edmonton:20260623T150000
DTSTAMP:20260423T145444
CREATED:20260222T230059Z
LAST-MODIFIED:20260222T230059Z
UID:1000-1782207000-1782226800@rcl223.ca
SUMMARY:Nimble Fingers
DESCRIPTION:
URL:https://rcl223.ca/event/nimble-fingers-57/
LOCATION:Royal Canadian Legion – Sundre #223\, 135 - 6th Street SE\, Sundre\, Alberta\, T0M 1X0\, Canada
END:VEVENT
BEGIN:VEVENT
DTSTART;TZID=America/Edmonton:20260629T103000
DTEND;TZID=America/Edmonton:20260629T120000
DTSTAMP:20260423T145444
CREATED:20260222T224242Z
LAST-MODIFIED:20260222T224242Z
UID:959-1782729000-1782734400@rcl223.ca
SUMMARY:Executive Meeting
DESCRIPTION:
URL:https://rcl223.ca/event/executive-meeting-4/
LOCATION:Royal Canadian Legion – Sundre #223\, 135 - 6th Street SE\, Sundre\, Alberta\, T0M 1X0\, Canada
END:VEVENT
END:VCALENDAR