BEGIN:VCALENDAR
VERSION:2.0
PRODID:-//Royal Canadian Legion #223 - Sundre - Alberta - ECPv6.15.20//NONSGML v1.0//EN
CALSCALE:GREGORIAN
METHOD:PUBLISH
X-WR-CALNAME:Royal Canadian Legion #223 - Sundre - Alberta
X-ORIGINAL-URL:https://rcl223.ca
X-WR-CALDESC:Events for Royal Canadian Legion #223 - Sundre - Alberta
REFRESH-INTERVAL;VALUE=DURATION:PT1H
X-Robots-Tag:noindex
X-PUBLISHED-TTL:PT1H
BEGIN:VTIMEZONE
TZID:America/Edmonton
BEGIN:DAYLIGHT
TZOFFSETFROM:-0700
TZOFFSETTO:-0600
TZNAME:MDT
DTSTART:20250309T090000
END:DAYLIGHT
BEGIN:STANDARD
TZOFFSETFROM:-0600
TZOFFSETTO:-0700
TZNAME:MST
DTSTART:20251102T080000
END:STANDARD
BEGIN:DAYLIGHT
TZOFFSETFROM:-0700
TZOFFSETTO:-0600
TZNAME:MDT
DTSTART:20260308T090000
END:DAYLIGHT
BEGIN:STANDARD
TZOFFSETFROM:-0600
TZOFFSETTO:-0700
TZNAME:MST
DTSTART:20261101T080000
END:STANDARD
BEGIN:DAYLIGHT
TZOFFSETFROM:-0700
TZOFFSETTO:-0600
TZNAME:MDT
DTSTART:20270314T090000
END:DAYLIGHT
BEGIN:STANDARD
TZOFFSETFROM:-0600
TZOFFSETTO:-0700
TZNAME:MST
DTSTART:20271107T080000
END:STANDARD
END:VTIMEZONE
BEGIN:VEVENT
DTSTART;TZID=America/Edmonton:20260105T070000
DTEND;TZID=America/Edmonton:20260105T210000
DTSTAMP:20260423T152232
CREATED:20251231T195956Z
LAST-MODIFIED:20251231T195956Z
UID:825-1767596400-1767646800@rcl223.ca
SUMMARY:Legion General Meeting
DESCRIPTION:
URL:https://rcl223.ca/event/legion-general-meeting-3/
END:VEVENT
BEGIN:VEVENT
DTSTART;TZID=America/Edmonton:20260106T093000
DTEND;TZID=America/Edmonton:20260106T150000
DTSTAMP:20260423T152232
CREATED:20251231T200117Z
LAST-MODIFIED:20251231T200117Z
UID:827-1767691800-1767711600@rcl223.ca
SUMMARY:Nimble Fingers
DESCRIPTION:
URL:https://rcl223.ca/event/nimble-fingers-27/
END:VEVENT
BEGIN:VEVENT
DTSTART;TZID=America/Edmonton:20260108T160000
DTEND;TZID=America/Edmonton:20260109T180000
DTSTAMP:20260423T152232
CREATED:20251126T002801Z
LAST-MODIFIED:20251231T200257Z
UID:814-1767888000-1767981600@rcl223.ca
SUMMARY:Private Function
DESCRIPTION:Celebration of Life
URL:https://rcl223.ca/event/private-function-24/
END:VEVENT
BEGIN:VEVENT
DTSTART;VALUE=DATE:20260110
DTEND;VALUE=DATE:20260111
DTSTAMP:20260423T152232
CREATED:20251126T002852Z
LAST-MODIFIED:20251126T002852Z
UID:816-1768003200-1768089599@rcl223.ca
SUMMARY:Private Function
DESCRIPTION:Ferguson Birthday Celebration
URL:https://rcl223.ca/event/private-function-25/
END:VEVENT
BEGIN:VEVENT
DTSTART;TZID=America/Edmonton:20260113T093000
DTEND;TZID=America/Edmonton:20260113T150000
DTSTAMP:20260423T152232
CREATED:20251231T200938Z
LAST-MODIFIED:20251231T200938Z
UID:840-1768296600-1768316400@rcl223.ca
SUMMARY:Nimble Fingers
DESCRIPTION:
URL:https://rcl223.ca/event/nimble-fingers-34/
END:VEVENT
BEGIN:VEVENT
DTSTART;TZID=America/Edmonton:20260115T180000
DTEND;TZID=America/Edmonton:20260115T210000
DTSTAMP:20260423T152232
CREATED:20251231T200443Z
LAST-MODIFIED:20251231T200443Z
UID:832-1768500000-1768510800@rcl223.ca
SUMMARY:Veterans Night
DESCRIPTION:
URL:https://rcl223.ca/event/veterans-night-5/
END:VEVENT
BEGIN:VEVENT
DTSTART;TZID=America/Edmonton:20260117T180000
DTEND;TZID=America/Edmonton:20260117T220000
DTSTAMP:20260423T152232
CREATED:20251231T200555Z
LAST-MODIFIED:20251231T200555Z
UID:834-1768672800-1768687200@rcl223.ca
SUMMARY:Legion Installation Ceremony
DESCRIPTION:
URL:https://rcl223.ca/event/legion-installation-ceremony/
END:VEVENT
BEGIN:VEVENT
DTSTART;TZID=America/Edmonton:20260120T093000
DTEND;TZID=America/Edmonton:20260120T150000
DTSTAMP:20260423T152232
CREATED:20251231T201018Z
LAST-MODIFIED:20251231T201018Z
UID:842-1768901400-1768921200@rcl223.ca
SUMMARY:Nimble Fingers
DESCRIPTION:
URL:https://rcl223.ca/event/nimble-fingers-35/
END:VEVENT
BEGIN:VEVENT
DTSTART;TZID=America/Edmonton:20260121T100000
DTEND;TZID=America/Edmonton:20260121T140000
DTSTAMP:20260423T152232
CREATED:20251231T200707Z
LAST-MODIFIED:20251231T200707Z
UID:836-1768989600-1769004000@rcl223.ca
SUMMARY:Cooking for Kindness
DESCRIPTION:
URL:https://rcl223.ca/event/cooking-for-kindness-3/
END:VEVENT
BEGIN:VEVENT
DTSTART;TZID=America/Edmonton:20260124T100000
DTEND;TZID=America/Edmonton:20260124T160000
DTSTAMP:20260423T152232
CREATED:20260115T010813Z
LAST-MODIFIED:20260115T010813Z
UID:892-1769248800-1769270400@rcl223.ca
SUMMARY:Private Event
DESCRIPTION:Heartland Funeral Services; Celebration of Life for Jack Hague \nEvent from 1pm-3pm (timings to be confirmed)
URL:https://rcl223.ca/event/private-event-2/
END:VEVENT
BEGIN:VEVENT
DTSTART;TZID=America/Edmonton:20260126T103000
DTEND;TZID=America/Edmonton:20260126T120000
DTSTAMP:20260423T152232
CREATED:20251231T200807Z
LAST-MODIFIED:20260119T170233Z
UID:838-1769423400-1769428800@rcl223.ca
SUMMARY:Legion Executive Meeting
DESCRIPTION:
URL:https://rcl223.ca/event/legion-executive-meeting-2/
END:VEVENT
BEGIN:VEVENT
DTSTART;TZID=America/Edmonton:20260127T093000
DTEND;TZID=America/Edmonton:20260127T150000
DTSTAMP:20260423T152232
CREATED:20251231T201059Z
LAST-MODIFIED:20260119T170204Z
UID:844-1769506200-1769526000@rcl223.ca
SUMMARY:Nimble Fingers
DESCRIPTION:
URL:https://rcl223.ca/event/nimble-fingers-36/
END:VEVENT
BEGIN:VEVENT
DTSTART;VALUE=DATE:20260131
DTEND;VALUE=DATE:20260201
DTSTAMP:20260423T152232
CREATED:20250415T175445Z
LAST-MODIFIED:20250415T175445Z
UID:467-1769817600-1769903999@rcl223.ca
SUMMARY:Legion Senior Pairs Crib Tournament
DESCRIPTION:
URL:https://rcl223.ca/event/legion-senior-pairs-crib-tournament/
END:VEVENT
END:VCALENDAR